BEGIN:VCALENDAR
VERSION:2.0
PRODID:-//ChamberMaster//Event Calendar 2.0//EN
METHOD:PUBLISH
X-PUBLISHED-TTL:P3D
REFRESH-INTERVAL:P3D
CALSCALE:GREGORIAN
BEGIN:VEVENT
DTSTART:20170928T210000Z
DTEND:20170928T230000Z
X-MICROSOFT-CDO-ALLDAYEVENT:FALSE
SUMMARY:BAH
DESCRIPTION:Park Ridge Health @ the Innovative High School
X-ALT-DESC;FMTTYPE=text/html:Park Ridge Health @ the Innovative High School
LOCATION:Blue Ridge Community College Dr. Molly Parkhill Building 300 East Campus Drive\, FlaT Rock
UID:e.2975.85
SEQUENCE:3
DTSTAMP:20260421T095808Z
URL:http://hendersoncountync.chambermaster.com/events/details/bah-85
END:VEVENT

END:VCALENDAR
