BEGIN:VCALENDAR
VERSION:2.0
PRODID:-//ChamberMaster//Event Calendar 2.0//EN
METHOD:PUBLISH
X-PUBLISHED-TTL:P3D
REFRESH-INTERVAL:P3D
CALSCALE:GREGORIAN
BEGIN:VEVENT
DTSTART:20171116T223000Z
DTEND:20171117T000000Z
X-MICROSOFT-CDO-ALLDAYEVENT:FALSE
SUMMARY:Business After Hours
DESCRIPTION:Business After Hours
X-ALT-DESC;FMTTYPE=text/html:Business After Hours
LOCATION:Interfaith Assistance Ministry 310 Freeman Street Hendersonville
UID:e.2975.89
SEQUENCE:3
DTSTAMP:20260421T193505Z
URL:http://hendersoncountync.chambermaster.com/events/details/business-after-hours-89
END:VEVENT

END:VCALENDAR
