BEGIN:VCALENDAR
VERSION:2.0
PRODID:-//ChamberMaster//Event Calendar 2.0//EN
METHOD:PUBLISH
X-PUBLISHED-TTL:P3D
REFRESH-INTERVAL:P3D
CALSCALE:GREGORIAN
BEGIN:VEVENT
DTSTART:20180222T123000Z
DTEND:20180222T140000Z
X-MICROSOFT-CDO-ALLDAYEVENT:FALSE
SUMMARY:Economic Outlook Breakfast
DESCRIPTION:Economic Outlook Breakfast
X-ALT-DESC;FMTTYPE=text/html:Economic Outlook Breakfast
LOCATION:Grand Ole Hall Highland Lake Inn 86 Lily Pad Lane\, Flat Rock
UID:e.2975.122
SEQUENCE:3
DTSTAMP:20260421T030752Z
URL:http://hendersoncountync.chambermaster.com/events/details/economic-outlook-breakfast-122
END:VEVENT

END:VCALENDAR
