BEGIN:VCALENDAR
VERSION:2.0
PRODID:-//ChamberMaster//Event Calendar 2.0//EN
METHOD:PUBLISH
X-PUBLISHED-TTL:P3D
REFRESH-INTERVAL:P3D
CALSCALE:GREGORIAN
BEGIN:VEVENT
DTSTART:20170928T123000Z
DTEND:20170928T133000Z
X-MICROSOFT-CDO-ALLDAYEVENT:FALSE
SUMMARY:Public Policy Meeting
DESCRIPTION:Public Policy Meeting featuring Brian Burch
X-ALT-DESC;FMTTYPE=text/html:Public Policy Meeting featuring Brian Burch&nbsp\;
LOCATION:The Chamber
UID:e.2975.87
SEQUENCE:3
DTSTAMP:20260423T142455Z
URL:http://hendersoncountync.chambermaster.com/events/details/public-policy-meeting-87
END:VEVENT

END:VCALENDAR
